BEGIN:VCALENDAR
VERSION:2.0
PRODID:icalendar-ruby
CALSCALE:GREGORIAN
METHOD:PUBLISH
BEGIN:VEVENT
DTSTAMP:20260421T170931Z
UID:528-5397517@hopelutheran.ca
DTSTART:20260521T160000Z
DTEND:20260521T180000Z
CLASS:PUBLIC
CREATED:20260421T094025
DESCRIPTION:Join us as we work on our current art projects! Bring your curr
 ent work in progress and art supplies and meet in the Luke room.
LAST-MODIFIED:20260421T094025
LOCATION:Hope Lutheran Church
SUMMARY:Work of Art
URL;VALUE=URI:https://www.hopelutheran.ca/events/work-of-art/2026-05-21
ATTACH;FILENAME=Work of Art NL-Icon.png;FMTTYPE=image/png:https://dq5pwpg1q
 8ru0.cloudfront.net/2025/12/08/21/04/20/f7ad33be-c04b-415b-b554-f67909fbaf
 a5/Work%20of%20Art%20NL-Icon.png
END:VEVENT
END:VCALENDAR
